BEGIN:VCALENDAR
VERSION:2.0
PRODID:-//Dirty Jersey Roller Derby - ECPv6.15.20//NONSGML v1.0//EN
CALSCALE:GREGORIAN
METHOD:PUBLISH
X-WR-CALNAME:Dirty Jersey Roller Derby
X-ORIGINAL-URL:https://dirtyjerseyrollerderby.com
X-WR-CALDESC:Events for Dirty Jersey Roller Derby
REFRESH-INTERVAL;VALUE=DURATION:PT1H
X-Robots-Tag:noindex
X-PUBLISHED-TTL:PT1H
BEGIN:VTIMEZONE
TZID:America/New_York
BEGIN:DAYLIGHT
TZOFFSETFROM:-0500
TZOFFSETTO:-0400
TZNAME:EDT
DTSTART:20250309T070000
END:DAYLIGHT
BEGIN:STANDARD
TZOFFSETFROM:-0400
TZOFFSETTO:-0500
TZNAME:EST
DTSTART:20251102T060000
END:STANDARD
BEGIN:DAYLIGHT
TZOFFSETFROM:-0500
TZOFFSETTO:-0400
TZNAME:EDT
DTSTART:20260308T070000
END:DAYLIGHT
BEGIN:STANDARD
TZOFFSETFROM:-0400
TZOFFSETTO:-0500
TZNAME:EST
DTSTART:20261101T060000
END:STANDARD
BEGIN:DAYLIGHT
TZOFFSETFROM:-0500
TZOFFSETTO:-0400
TZNAME:EDT
DTSTART:20270314T070000
END:DAYLIGHT
BEGIN:STANDARD
TZOFFSETFROM:-0400
TZOFFSETTO:-0500
TZNAME:EST
DTSTART:20271107T060000
END:STANDARD
END:VTIMEZONE
BEGIN:VEVENT
DTSTART;VALUE=DATE:20260613
DTEND;VALUE=DATE:20260615
DTSTAMP:20260423T063000
CREATED:20260312T004639Z
LAST-MODIFIED:20260312T004639Z
UID:3585-1781308800-1781481599@dirtyjerseyrollerderby.com
SUMMARY:DJRD at Skatecationland Tournament!
DESCRIPTION:
URL:https://dirtyjerseyrollerderby.com/event/djrd-at-skatecationland-tournament/
END:VEVENT
BEGIN:VEVENT
DTSTART;TZID=America/New_York:20260627T170000
DTEND;TZID=America/New_York:20260627T213000
DTSTAMP:20260423T063000
CREATED:20260312T004837Z
LAST-MODIFIED:20260312T004837Z
UID:3588-1782579600-1782595800@dirtyjerseyrollerderby.com
SUMMARY:DJRD Purple Pain vs. Hudson Valley Horrors & Violet Uprising vs. Philly Roller Derby (home)
DESCRIPTION:
URL:https://dirtyjerseyrollerderby.com/event/djrd-purple-pain-vs-hudson-valley-horrors-violet-uprising-vs-philly-roller-derby-home/
LOCATION:All Season Sports Academy\, 2700 Hamilton Blvd.\, South Plainfield\, NJ\, 07080\, United States
ORGANIZER;CN="Dirty Jersey Roller Derby":MAILTO:dirtyjerseyrollerderby@gmail.com
END:VEVENT
END:VCALENDAR