BEGIN:VCALENDAR
VERSION:2.0
PRODID:-//Dirty Jersey Roller Derby - ECPv6.15.20//NONSGML v1.0//EN
CALSCALE:GREGORIAN
METHOD:PUBLISH
X-ORIGINAL-URL:https://dirtyjerseyrollerderby.com
X-WR-CALDESC:Events for Dirty Jersey Roller Derby
REFRESH-INTERVAL;VALUE=DURATION:PT1H
X-Robots-Tag:noindex
X-PUBLISHED-TTL:PT1H
BEGIN:VTIMEZONE
TZID:America/New_York
BEGIN:DAYLIGHT
TZOFFSETFROM:-0500
TZOFFSETTO:-0400
TZNAME:EDT
DTSTART:20250309T070000
END:DAYLIGHT
BEGIN:STANDARD
TZOFFSETFROM:-0400
TZOFFSETTO:-0500
TZNAME:EST
DTSTART:20251102T060000
END:STANDARD
BEGIN:DAYLIGHT
TZOFFSETFROM:-0500
TZOFFSETTO:-0400
TZNAME:EDT
DTSTART:20260308T070000
END:DAYLIGHT
BEGIN:STANDARD
TZOFFSETFROM:-0400
TZOFFSETTO:-0500
TZNAME:EST
DTSTART:20261101T060000
END:STANDARD
BEGIN:DAYLIGHT
TZOFFSETFROM:-0500
TZOFFSETTO:-0400
TZNAME:EDT
DTSTART:20270314T070000
END:DAYLIGHT
BEGIN:STANDARD
TZOFFSETFROM:-0400
TZOFFSETTO:-0500
TZNAME:EST
DTSTART:20271107T060000
END:STANDARD
END:VTIMEZONE
BEGIN:VEVENT
DTSTART;TZID=America/New_York:20260321T170000
DTEND;TZID=America/New_York:20260321T203000
DTSTAMP:20260423T050610
CREATED:20260312T000843Z
LAST-MODIFIED:20260312T005447Z
UID:3568-1774112400-1774125000@dirtyjerseyrollerderby.com
SUMMARY:Season Opener! DJRD All Stars vs. The World & Violet Uprising vs. Garden State RD (home)
DESCRIPTION:We start 2026 with a home double header at All Seasons Sports Academy – get your tickets now!
URL:https://dirtyjerseyrollerderby.com/event/season-opener-djrd-all-stars-vs-the-world-djrd-violet-uprising-vs-garden-state-rd/
LOCATION:All Season Sports Academy\, 2700 Hamilton Blvd.\, South Plainfield\, NJ\, 07080\, United States
ORGANIZER;CN="Dirty Jersey Roller Derby":MAILTO:dirtyjerseyrollerderby@gmail.com
END:VEVENT
END:VCALENDAR