BEGIN:VCALENDAR
VERSION:2.0
PRODID:-//Dirty Jersey Roller Derby - ECPv6.15.20//NONSGML v1.0//EN
CALSCALE:GREGORIAN
METHOD:PUBLISH
X-ORIGINAL-URL:https://dirtyjerseyrollerderby.com
X-WR-CALDESC:Events for Dirty Jersey Roller Derby
REFRESH-INTERVAL;VALUE=DURATION:PT1H
X-Robots-Tag:noindex
X-PUBLISHED-TTL:PT1H
BEGIN:VTIMEZONE
TZID:America/New_York
BEGIN:DAYLIGHT
TZOFFSETFROM:-0500
TZOFFSETTO:-0400
TZNAME:EDT
DTSTART:20240310T070000
END:DAYLIGHT
BEGIN:STANDARD
TZOFFSETFROM:-0400
TZOFFSETTO:-0500
TZNAME:EST
DTSTART:20241103T060000
END:STANDARD
BEGIN:DAYLIGHT
TZOFFSETFROM:-0500
TZOFFSETTO:-0400
TZNAME:EDT
DTSTART:20250309T070000
END:DAYLIGHT
BEGIN:STANDARD
TZOFFSETFROM:-0400
TZOFFSETTO:-0500
TZNAME:EST
DTSTART:20251102T060000
END:STANDARD
BEGIN:DAYLIGHT
TZOFFSETFROM:-0500
TZOFFSETTO:-0400
TZNAME:EDT
DTSTART:20260308T070000
END:DAYLIGHT
BEGIN:STANDARD
TZOFFSETFROM:-0400
TZOFFSETTO:-0500
TZNAME:EST
DTSTART:20261101T060000
END:STANDARD
END:VTIMEZONE
BEGIN:VEVENT
DTSTART;VALUE=DATE:20251108
DTEND;VALUE=DATE:20251109
DTSTAMP:20260423T112437
CREATED:20250204T211419Z
LAST-MODIFIED:20250327T123815Z
UID:3401-1762560000-1762646399@dirtyjerseyrollerderby.com
SUMMARY:Double header! PP vs. Strong Island & VU vs. Strong Island (away)
DESCRIPTION:
URL:https://dirtyjerseyrollerderby.com/event/double-header-pp-vs-strong-island-vu-vs-strong-island-home/
END:VEVENT
BEGIN:VEVENT
DTSTART;VALUE=DATE:20251115
DTEND;VALUE=DATE:20251116
DTSTAMP:20260423T112437
CREATED:20250320T021651Z
LAST-MODIFIED:20250320T021651Z
UID:3425-1763164800-1763251199@dirtyjerseyrollerderby.com
SUMMARY:All Stars vs. Albany RD (away)
DESCRIPTION:
URL:https://dirtyjerseyrollerderby.com/event/all-stars-vs-albany-rd-away/
END:VEVENT
BEGIN:VEVENT
DTSTART;TZID=America/New_York:20251122T120000
DTEND;TZID=America/New_York:20251122T210000
DTSTAMP:20260423T112437
CREATED:20251001T021904Z
LAST-MODIFIED:20251001T021904Z
UID:3547-1763812800-1763845200@dirtyjerseyrollerderby.com
SUMMARY:DIRTYFEST 2025!
DESCRIPTION:Our second annual all-day derby festival is back! Catch three open scrimmages\, plus a headlining Level 3 Junior game. \n  \nDetails to be announced\, but follow us on social media for more information!
URL:https://dirtyjerseyrollerderby.com/event/dirtyfest-2025/
LOCATION:All Season Sports Academy\, 2700 Hamilton Blvd.\, South Plainfield\, NJ\, 07080\, United States
ORGANIZER;CN="Dirty Jersey Roller Derby":MAILTO:dirtyjerseyrollerderby@gmail.com
END:VEVENT
END:VCALENDAR