BEGIN:VCALENDAR
VERSION:2.0
PRODID:-//Dirty Jersey Roller Derby - ECPv6.15.20//NONSGML v1.0//EN
CALSCALE:GREGORIAN
METHOD:PUBLISH
X-WR-CALNAME:Dirty Jersey Roller Derby
X-ORIGINAL-URL:https://dirtyjerseyrollerderby.com
X-WR-CALDESC:Events for Dirty Jersey Roller Derby
REFRESH-INTERVAL;VALUE=DURATION:PT1H
X-Robots-Tag:noindex
X-PUBLISHED-TTL:PT1H
BEGIN:VTIMEZONE
TZID:America/New_York
BEGIN:DAYLIGHT
TZOFFSETFROM:-0500
TZOFFSETTO:-0400
TZNAME:EDT
DTSTART:20220313T070000
END:DAYLIGHT
BEGIN:STANDARD
TZOFFSETFROM:-0400
TZOFFSETTO:-0500
TZNAME:EST
DTSTART:20221106T060000
END:STANDARD
BEGIN:DAYLIGHT
TZOFFSETFROM:-0500
TZOFFSETTO:-0400
TZNAME:EDT
DTSTART:20230312T070000
END:DAYLIGHT
BEGIN:STANDARD
TZOFFSETFROM:-0400
TZOFFSETTO:-0500
TZNAME:EST
DTSTART:20231105T060000
END:STANDARD
BEGIN:DAYLIGHT
TZOFFSETFROM:-0500
TZOFFSETTO:-0400
TZNAME:EDT
DTSTART:20240310T070000
END:DAYLIGHT
BEGIN:STANDARD
TZOFFSETFROM:-0400
TZOFFSETTO:-0500
TZNAME:EST
DTSTART:20241103T060000
END:STANDARD
BEGIN:DAYLIGHT
TZOFFSETFROM:-0500
TZOFFSETTO:-0400
TZNAME:EDT
DTSTART:20250309T070000
END:DAYLIGHT
BEGIN:STANDARD
TZOFFSETFROM:-0400
TZOFFSETTO:-0500
TZNAME:EST
DTSTART:20251102T060000
END:STANDARD
BEGIN:DAYLIGHT
TZOFFSETFROM:-0500
TZOFFSETTO:-0400
TZNAME:EDT
DTSTART:20260308T070000
END:DAYLIGHT
BEGIN:STANDARD
TZOFFSETFROM:-0400
TZOFFSETTO:-0500
TZNAME:EST
DTSTART:20261101T060000
END:STANDARD
END:VTIMEZONE
BEGIN:VEVENT
DTSTART;VALUE=DATE:20250621
DTEND;VALUE=DATE:20250622
DTSTAMP:20260423T095323
CREATED:20250204T210712Z
LAST-MODIFIED:20250204T210712Z
UID:3393-1750464000-1750550399@dirtyjerseyrollerderby.com
SUMMARY:PP vs. Shoreline Roller Derby (away)
DESCRIPTION:
URL:https://dirtyjerseyrollerderby.com/event/pp-vs-shoreline-roller-derby-away/
LOCATION:NJ
END:VEVENT
BEGIN:VEVENT
DTSTART;VALUE=DATE:20250608
DTEND;VALUE=DATE:20250609
DTSTAMP:20260423T095323
CREATED:20250320T021136Z
LAST-MODIFIED:20250320T021136Z
UID:3418-1749340800-1749427199@dirtyjerseyrollerderby.com
SUMMARY:VU vs. Reading Roller Derby (away)
DESCRIPTION:
URL:https://dirtyjerseyrollerderby.com/event/vu-vs-reading-roller-derby-away/
LOCATION:NJ
END:VEVENT
BEGIN:VEVENT
DTSTART;VALUE=DATE:20250607
DTEND;VALUE=DATE:20250608
DTSTAMP:20260423T095323
CREATED:20250320T021348Z
LAST-MODIFIED:20250320T021348Z
UID:3421-1749254400-1749340799@dirtyjerseyrollerderby.com
SUMMARY:All Stars & PP vs. Roc City Roller Derby (away)
DESCRIPTION:
URL:https://dirtyjerseyrollerderby.com/event/all-stars-pp-vs-roc-city-roller-derby-away/
LOCATION:NJ
END:VEVENT
BEGIN:VEVENT
DTSTART;VALUE=DATE:20250517
DTEND;VALUE=DATE:20250518
DTSTAMP:20260423T095323
CREATED:20250204T210635Z
LAST-MODIFIED:20250320T021231Z
UID:3391-1747440000-1747526399@dirtyjerseyrollerderby.com
SUMMARY:Double Header! All-Stars vs. SoDel RD & PP vs. Enchanted Mountain (home)
DESCRIPTION:
URL:https://dirtyjerseyrollerderby.com/event/double-header-all-stars-vs-tri-city-pp-vs-enchanted-mountain/
LOCATION:All Season Sports Academy\, 2700 Hamilton Blvd.\, South Plainfield\, NJ\, 07080\, United States
ORGANIZER;CN="Dirty Jersey Roller Derby":MAILTO:dirtyjerseyrollerderby@gmail.com
END:VEVENT
BEGIN:VEVENT
DTSTART;VALUE=DATE:20250427
DTEND;VALUE=DATE:20250428
DTSTAMP:20260423T095323
CREATED:20250204T210308Z
LAST-MODIFIED:20250204T210308Z
UID:3388-1745712000-1745798399@dirtyjerseyrollerderby.com
SUMMARY:VU vs. Long Island Roller Rebels (away)
DESCRIPTION:
URL:https://dirtyjerseyrollerderby.com/event/vu-vs-long-island-roller-rebels-away/
LOCATION:NJ
END:VEVENT
BEGIN:VEVENT
DTSTART;TZID=America/New_York:20250406T120000
DTEND;TZID=America/New_York:20250406T170000
DTSTAMP:20260423T095323
CREATED:20250204T205140Z
LAST-MODIFIED:20250320T021024Z
UID:3386-1743940800-1743958800@dirtyjerseyrollerderby.com
SUMMARY:Double-header! All-Stars vs. Penn Jersey B-Devils & PP vs. Hudson Valley Horrors (home)
DESCRIPTION:
URL:https://dirtyjerseyrollerderby.com/event/double-header-all-stars-vs-tbd-pp-vs-hudson-valley-horrors-home/
LOCATION:All Season Sports Academy\, 2700 Hamilton Blvd.\, South Plainfield\, NJ\, 07080\, United States
ORGANIZER;CN="Dirty Jersey Roller Derby":MAILTO:dirtyjerseyrollerderby@gmail.com
END:VEVENT
BEGIN:VEVENT
DTSTART;TZID=America/New_York:20250323T120000
DTEND;TZID=America/New_York:20250323T170000
DTSTAMP:20260423T095323
CREATED:20250204T205040Z
LAST-MODIFIED:20250320T020618Z
UID:3384-1742731200-1742749200@dirtyjerseyrollerderby.com
SUMMARY:Season Opener Double header! PP & AS Mashups & VU vs. Strong Island (home)
DESCRIPTION:Help us kick off the 2025 season! Join us for Violet Uprising’s 2025 debut against Strong Island\, followed by a Purple Pain-All Stars mashup game. \nGet your tickets here! \n 
URL:https://dirtyjerseyrollerderby.com/event/double-header-pp-vs-mashup-vu-vs-strong-island-home/
LOCATION:All Season Sports Academy\, 2700 Hamilton Blvd.\, South Plainfield\, NJ\, 07080\, United States
ORGANIZER;CN="Dirty Jersey Roller Derby":MAILTO:dirtyjerseyrollerderby@gmail.com
END:VEVENT
BEGIN:VEVENT
DTSTART;VALUE=DATE:20250316
DTEND;VALUE=DATE:20250317
DTSTAMP:20260423T095323
CREATED:20250204T204853Z
LAST-MODIFIED:20250204T204853Z
UID:3382-1742083200-1742169599@dirtyjerseyrollerderby.com
SUMMARY:All-Stars vs. Black Rose Rollers (away)
DESCRIPTION:
URL:https://dirtyjerseyrollerderby.com/event/all-stars-vs-black-rose-rollers-away/
LOCATION:NJ
END:VEVENT
BEGIN:VEVENT
DTSTART;TZID=America/New_York:20241123T120000
DTEND;TZID=America/New_York:20241123T200000
DTSTAMP:20260423T095323
CREATED:20241017T022345Z
LAST-MODIFIED:20241017T022345Z
UID:3379-1732363200-1732392000@dirtyjerseyrollerderby.com
SUMMARY:DirtyFest!
DESCRIPTION:Join us for our 1st ever Dirty Fest! Skater registration is now open! \nWant to watch? \nSpectator tickets now available! Tickets are just $25 for four thrilling games featuring fun themes and a headliner game featuring Jersey All Stars vs. Team Maryland.\n \nWant to skate?\nFor $40 skaters will get to skate in one scrimmage of their choice\, a printed team shirt (name & number included)\, and all-day admission to the event. \n12 PM Heroes vs Villains (Beginner open gender) \n2 PM Buffy vs Twilight (Intermediate/Advanced open gender) \n4 PM Lisa Frank vs Hot Topic (WFTDA intermediate/advanced) SOLD OUT! \nStay to watch our headliner game at 6 PM between Jersey All-Stars Roller Derby and Team Maryland! \nBefore or after purchasing your ticket please ensure you have filled out this google form to complete your skater registration! \n\n 
URL:https://dirtyjerseyrollerderby.com/event/dirtyfest/
LOCATION:All Season Sports Academy\, 2700 Hamilton Blvd.\, South Plainfield\, NJ\, 07080\, United States
ORGANIZER;CN="Dirty Jersey Roller Derby":MAILTO:dirtyjerseyrollerderby@gmail.com
END:VEVENT
BEGIN:VEVENT
DTSTART;TZID=America/New_York:20241110T080000
DTEND;TZID=America/New_York:20241110T170000
DTSTAMP:20260423T095323
CREATED:20240402T192250Z
LAST-MODIFIED:20240402T192422Z
UID:3256-1731225600-1731258000@dirtyjerseyrollerderby.com
SUMMARY:DJRD vs. Reading Roller Derby (Away)
DESCRIPTION:DJRD’s travels to take on Reading Roller Derby.
URL:https://dirtyjerseyrollerderby.com/event/djrd-vs-reading-roller-derby/
LOCATION:Skateaway\, 2275 Lancaster Pike\, Shillington\, PA\, 19607\, United States
END:VEVENT
BEGIN:VEVENT
DTSTART;TZID=America/New_York:20241012T143000
DTEND;TZID=America/New_York:20241012T190000
DTSTAMP:20260423T095323
CREATED:20240805T150539Z
LAST-MODIFIED:20240806T152411Z
UID:3336-1728743400-1728759600@dirtyjerseyrollerderby.com
SUMMARY:Double Header! DJRD All-Stars & Purple Pain vs. Hellions Roller Derby (Home)
DESCRIPTION:Dirty Jersey Roller Derby hosts another action-packed double header – catch DJRD’s All Stars take on the Hellions of Troy at 3 p.m. and DJRD’s Purple Pain take on The Trojan Force at 5 p.m. Get your tickets here!
URL:https://dirtyjerseyrollerderby.com/event/double-header-djrd-all-stars-purple-pain-vs-hellions-roller-derby-home/
LOCATION:All Season Sports Academy\, 2700 Hamilton Blvd.\, South Plainfield\, NJ\, 07080\, United States
ORGANIZER;CN="Dirty Jersey Roller Derby":MAILTO:dirtyjerseyrollerderby@gmail.com
END:VEVENT
BEGIN:VEVENT
DTSTART;TZID=America/New_York:20240810T000000
DTEND;TZID=America/New_York:20240810T000000
DTSTAMP:20260423T095323
CREATED:20240402T192029Z
LAST-MODIFIED:20240402T192029Z
UID:3254-1723248000-1723248000@dirtyjerseyrollerderby.com
SUMMARY:DJRD's Purple Pain vs. Susquehanna Valley Derby Vixens (Away)
DESCRIPTION:DJRD’s Purple Pain travels to take on the Susquehanna Valley Derby Vixens.
URL:https://dirtyjerseyrollerderby.com/event/djrds-purple-pain-vs-susquehanna-valley-derby-vixens-away/
LOCATION:NJ
END:VEVENT
BEGIN:VEVENT
DTSTART;TZID=America/New_York:20240803T150000
DTEND;TZID=America/New_York:20240803T190000
DTSTAMP:20260423T095323
CREATED:20240402T191737Z
LAST-MODIFIED:20240617T202809Z
UID:3252-1722697200-1722711600@dirtyjerseyrollerderby.com
SUMMARY:Double Header! DJRD All-Stars & Purple Pain vs. Mass Attack Roller Derby (Home)
DESCRIPTION:DJRD hosts a double header – catch DJRD’s All Stars take on MARD’s All-Stars and DJRD’s Purple Pain take on MARD’s Bloody Bordens. \nGet your tickets here!
URL:https://dirtyjerseyrollerderby.com/event/double-header-djrd-all-stars-purple-pain-vs-mass-attack-roller-derby-home/
LOCATION:All Season Sports Academy\, 2700 Hamilton Blvd.\, South Plainfield\, NJ\, 07080\, United States
ORGANIZER;CN="Dirty Jersey Roller Derby":MAILTO:dirtyjerseyrollerderby@gmail.com
END:VEVENT
BEGIN:VEVENT
DTSTART;TZID=America/New_York:20240629T000000
DTEND;TZID=America/New_York:20240629T000000
DTSTAMP:20260423T095323
CREATED:20240402T191406Z
LAST-MODIFIED:20240402T191406Z
UID:3249-1719619200-1719619200@dirtyjerseyrollerderby.com
SUMMARY:DJRD vs. Lehigh Valley Roller Derby (Away)
DESCRIPTION:DJRD travels to take on Lehigh Valley Roller Derby.
URL:https://dirtyjerseyrollerderby.com/event/djrd-vs-lehigh-valley-roller-derby-away/
LOCATION:Kirby Sports Center @ Lafayette College\, 700 W Pierce St\, Easton\, PA\, 18042\, United States
END:VEVENT
BEGIN:VEVENT
DTSTART;TZID=America/New_York:20240518T000000
DTEND;TZID=America/New_York:20240518T000000
DTSTAMP:20260423T095323
CREATED:20240402T190913Z
LAST-MODIFIED:20240402T192435Z
UID:3246-1715990400-1715990400@dirtyjerseyrollerderby.com
SUMMARY:Double Header! DJRD vs. Garden State RD (Away)
DESCRIPTION:It’s an all-Jersey battle! DJRD’s Purple Pain and Violet Uprising take on Garden State’s teams.
URL:https://dirtyjerseyrollerderby.com/event/double-header-djrd-vs-garden-state-rd-away/
LOCATION:Inline Skating Club of America\, 170 Schuyler Ave\, North Arlington\, NJ\, 07031\, United States
END:VEVENT
BEGIN:VEVENT
DTSTART;TZID=America/New_York:20240511T000000
DTEND;TZID=America/New_York:20240511T000000
DTSTAMP:20260423T095323
CREATED:20240402T190206Z
LAST-MODIFIED:20240402T190434Z
UID:3241-1715385600-1715385600@dirtyjerseyrollerderby.com
SUMMARY:DJRD's Violet Uprising vs. Mid-Hudson Misfits (Away)
DESCRIPTION:DJRD’s Violet Uprising travels to take on the Mid-Hudson Misfits.
URL:https://dirtyjerseyrollerderby.com/event/djrds-violet-uprising-vs-mid-hudson-misfits-away/
LOCATION:Skate Time\, 5164 US-209\, Accord\, NY\, 12404\, United States
END:VEVENT
BEGIN:VEVENT
DTSTART;TZID=America/New_York:20240505T170000
DTEND;TZID=America/New_York:20240505T220000
DTSTAMP:20260423T095323
CREATED:20240402T185625Z
LAST-MODIFIED:20240402T185625Z
UID:3238-1714928400-1714946400@dirtyjerseyrollerderby.com
SUMMARY:DJRD vs. Harrisburg Area Roller Derby (Away)
DESCRIPTION:DJRD travels to Harrisburg Area Roller Derby for a double header! Watch the All-Stars and Purple Pain take on Harrisburg’s teams. Get tickets here!
URL:https://dirtyjerseyrollerderby.com/event/djrd-vs-harrisburg-area-roller-derby-away/
LOCATION:Olympic Skating Center\, 60 E. Shady Lane\, Enola\, PA\, 17025\, United States
END:VEVENT
BEGIN:VEVENT
DTSTART;TZID=America/New_York:20240413T143000
DTEND;TZID=America/New_York:20240413T190000
DTSTAMP:20260423T095323
CREATED:20240402T184748Z
LAST-MODIFIED:20240402T190934Z
UID:3235-1713018600-1713034800@dirtyjerseyrollerderby.com
SUMMARY:DJRD Purple Pain vs. Green Mountain RD & DJRD Violet Uprising vs. Garden State Brick City Bruisers (Home!)
DESCRIPTION:Double the fun! Purple Pain makes their debut against Green Mountain Roller Derby and Violet Uprising take on GSR’s Brick City Bruisers. \nGet tickets here! \n 
URL:https://dirtyjerseyrollerderby.com/event/djrd-purple-pain-vs-green-mountain-rd-djrd-violet-uprising-vs-garden-state-brick-city-bruisers/
LOCATION:All Season Sports Academy\, 2700 Hamilton Blvd.\, South Plainfield\, NJ\, 07080\, United States
ORGANIZER;CN="Dirty Jersey Roller Derby":MAILTO:dirtyjerseyrollerderby@gmail.com
END:VEVENT
BEGIN:VEVENT
DTSTART;TZID=America/New_York:20240324T143000
DTEND;TZID=America/New_York:20240324T190000
DTSTAMP:20260423T095323
CREATED:20240215T143605Z
LAST-MODIFIED:20240215T143605Z
UID:3132-1711290600-1711306800@dirtyjerseyrollerderby.com
SUMMARY:Doubleheader - DJRD vs. CTRD
DESCRIPTION:Join us for our season opener! Catch all the action as the DJRD All-Stars take on the CTRD Yankee Brutals and DJRD’s Violet Uprising make their debut against the CTRD Cutthroats.
URL:https://dirtyjerseyrollerderby.com/event/doubleheader-djrd-vs-ctrd/
LOCATION:All Season Sports Academy\, 2700 Hamilton Blvd.\, South Plainfield\, NJ\, 07080\, United States
ORGANIZER;CN="Dirty Jersey Roller Derby":MAILTO:dirtyjerseyrollerderby@gmail.com
END:VEVENT
BEGIN:VEVENT
DTSTART;TZID=America/New_York:20231201T190000
DTEND;TZID=America/New_York:20231201T220000
DTSTAMP:20260423T095323
CREATED:20231127T184411Z
LAST-MODIFIED:20231127T184411Z
UID:3118-1701457200-1701468000@dirtyjerseyrollerderby.com
SUMMARY:Winter Paint & Sip!
DESCRIPTION:Come on out for another fun DJRD Paint & Sip hosted by Madame Muerta! \n\nShe will walk us through a winter themed painting that will get us prepped for the season change! \n\nBYOB (Wine and beer only — No hard alcohol please!) and bring some snacks!\n\nGet tickets in advance here!
URL:https://dirtyjerseyrollerderby.com/event/winter-paint-sip/
LOCATION:Metuchen First Aid Squad\, 1 Safety Place\, Metuchen\, NJ\, 08840\, United States
ORGANIZER;CN="Dirty Jersey Roller Derby":MAILTO:dirtyjerseyrollerderby@gmail.com
END:VEVENT
BEGIN:VEVENT
DTSTART;TZID=America/New_York:20231119T153000
DTEND;TZID=America/New_York:20231119T180000
DTSTAMP:20260423T095323
CREATED:20231012T110111Z
LAST-MODIFIED:20231016T155955Z
UID:3101-1700407800-1700416800@dirtyjerseyrollerderby.com
SUMMARY:DJRD Season Closer!
DESCRIPTION:Join us for a sweet interleage game to close out the 2023 season! You won’t want to miss all the fun – Get tickets here! \n 
URL:https://dirtyjerseyrollerderby.com/event/djrd-season-closer/
LOCATION:All Season Sports Academy\, 2700 Hamilton Blvd.\, South Plainfield\, NJ\, 07080\, United States
ORGANIZER;CN="Dirty Jersey Roller Derby":MAILTO:dirtyjerseyrollerderby@gmail.com
END:VEVENT
BEGIN:VEVENT
DTSTART;TZID=America/New_York:20231104T180000
DTEND;TZID=America/New_York:20231104T210000
DTSTAMP:20260423T095323
CREATED:20230906T150224Z
LAST-MODIFIED:20231016T160116Z
UID:3016-1699120800-1699131600@dirtyjerseyrollerderby.com
SUMMARY:DJRD Purple Pain vs. GSRD Brick City Bruisers (away)
DESCRIPTION:Watch DJRD’s Purple Pain take on Garden State Roller Derby’s Brick City Bruisers. More info here!
URL:https://dirtyjerseyrollerderby.com/event/djrd-purple-pain-vs-gsrd-brick-city-bruisers/
LOCATION:Inline Skating Club of America\, 170 Schuyler Ave\, North Arlington\, NJ\, 07031\, United States
END:VEVENT
BEGIN:VEVENT
DTSTART;TZID=America/New_York:20231021T160000
DTEND;TZID=America/New_York:20231021T210000
DTSTAMP:20260423T095323
CREATED:20230906T145837Z
LAST-MODIFIED:20230906T151024Z
UID:3012-1697904000-1697922000@dirtyjerseyrollerderby.com
SUMMARY:DJRD All-Stars vs. Free State Roller Derby (away)
DESCRIPTION:DJRD’s All-Stars head south to take on Free State Roller Derby in Maryland. Get information here!
URL:https://dirtyjerseyrollerderby.com/event/djrd-all-stars-vs-free-state-roller-derby/
LOCATION:Michael & Son Sports Arena\, 60 Southlawn Court\, Rockville\, MD\, 20850\, United States
END:VEVENT
BEGIN:VEVENT
DTSTART;TZID=America/New_York:20231014T000000
DTEND;TZID=America/New_York:20231014T000000
DTSTAMP:20260423T095323
CREATED:20230725T165922Z
LAST-MODIFIED:20230906T145106Z
UID:2985-1697241600-1697241600@dirtyjerseyrollerderby.com
SUMMARY:DJRD Purple Pain vs. Strong Island Derby Revolution (away)
DESCRIPTION:Cheer on DJRD’s Purple Pain as they take on Strong Island Derby Revolution for a spooky bout on the Island! Get tickets here!
URL:https://dirtyjerseyrollerderby.com/event/djrd-purple-pain-vs-strong-island-derby-revolution-away/
LOCATION:All Sportz\, All Sportz\, 100 Ruland Rd\, Melville\, NY\, 11747\, United States
END:VEVENT
BEGIN:VEVENT
DTSTART;TZID=America/New_York:20231007T143000
DTEND;TZID=America/New_York:20231007T190000
DTSTAMP:20260423T095323
CREATED:20230906T150939Z
LAST-MODIFIED:20230906T150939Z
UID:3020-1696689000-1696705200@dirtyjerseyrollerderby.com
SUMMARY:Home Doubleheader! DJRD All Stars vs Twin State Derby & DJRD Purple Pain vs HARD
DESCRIPTION:Cheer us on for an action-packed Dirty Jersey double header at our new home venue! Watch the All-Stars take on Twin State Derby and then Purple Pain meet Connecticut’s HARD. Get tickets here!
URL:https://dirtyjerseyrollerderby.com/event/home-doubleheader-djrd-all-stars-vs-twin-state-derby-djrd-purple-pain-vs-hard/
LOCATION:All Season Sports Academy\, 2700 Hamilton Blvd.\, South Plainfield\, NJ\, 07080\, United States
ORGANIZER;CN="Dirty Jersey Roller Derby":MAILTO:dirtyjerseyrollerderby@gmail.com
END:VEVENT
BEGIN:VEVENT
DTSTART;TZID=America/New_York:20230923T190000
DTEND;TZID=America/New_York:20230923T220000
DTSTAMP:20260423T095323
CREATED:20230906T145449Z
LAST-MODIFIED:20230906T145606Z
UID:3006-1695495600-1695506400@dirtyjerseyrollerderby.com
SUMMARY:DJRD Purple Pain vs. Long Island Roller Rebels (away)
DESCRIPTION:DJRD’s Purple Pain heads out to the Island to take on the Long Island Roller Rebels at their Fall Bash! Get ticket info here!
URL:https://dirtyjerseyrollerderby.com/event/djrd-purple-pain-vs-long-island-roller-rebels/
LOCATION:Skate Safe America\, 182 Bethpage-Sweet Hollow Rd\, Old Bethpage\, NY\, 11804\, United States
END:VEVENT
BEGIN:VEVENT
DTSTART;TZID=America/New_York:20230916T000000
DTEND;TZID=America/New_York:20230916T000000
DTSTAMP:20260423T095323
CREATED:20230725T164946Z
LAST-MODIFIED:20230906T145542Z
UID:2982-1694822400-1694822400@dirtyjerseyrollerderby.com
SUMMARY:DJRD All-Stars vs. Mass Attack Roller Derby (away)
DESCRIPTION:DJRD is on the road (yes\, again!!) to take on Mass Attack Roller Derby. Ticket info to come!
URL:https://dirtyjerseyrollerderby.com/event/djrd-vs-mass-attack-roller-derby-away/
LOCATION:Teamworks\, 1314 Fall River Ave.\, Seekonk\, MA\, United States
END:VEVENT
BEGIN:VEVENT
DTSTART;TZID=America/New_York:20230819T170000
DTEND;TZID=America/New_York:20230819T200000
DTSTAMP:20260423T095323
CREATED:20230725T163211Z
LAST-MODIFIED:20230725T164217Z
UID:2976-1692464400-1692475200@dirtyjerseyrollerderby.com
SUMMARY:DJRD All-Stars vs. Connecticut All-Stars (away)
DESCRIPTION:DJRD is on the road (again!) to take on the Connecticut All-Stars at their season opener. Get your tickets here!
URL:https://dirtyjerseyrollerderby.com/event/djrd-all-stars-vs-connecticut-all-stars/
LOCATION:Insports\, 29 Trefoil Dr.\, Trumbull\, CT\, 06611\, United States
END:VEVENT
BEGIN:VEVENT
DTSTART;TZID=America/New_York:20230729T170000
DTEND;TZID=America/New_York:20230729T220000
DTSTAMP:20260423T095323
CREATED:20230725T155242Z
LAST-MODIFIED:20230725T155242Z
UID:2973-1690650000-1690668000@dirtyjerseyrollerderby.com
SUMMARY:DJRD All-Stars vs. Salt City Roller Derby (away)
DESCRIPTION:DJRD’s All-Stars are on the road to take on Salt City Roller Derby. \nGet your tickets here!
URL:https://dirtyjerseyrollerderby.com/event/djrd-all-stars-vs-salt-city-roller-derby-away/
LOCATION:Fulton Community Ice Arena\, 600 W. Broadway\, Fulton\, NY\, United States
END:VEVENT
BEGIN:VEVENT
DTSTART;TZID=America/New_York:20230725T200000
DTEND;TZID=America/New_York:20230725T220000
DTSTAMP:20260423T095323
CREATED:20230725T152541Z
LAST-MODIFIED:20230725T152541Z
UID:2874-1690315200-1690322400@dirtyjerseyrollerderby.com
SUMMARY:Open Scrimmage! DJRD All Stars vs. The World!
DESCRIPTION:Looking for extra game time? Come to DJRD’s open scrimmage and take on our All Stars! All local skaters\, refs\, and NSOs are welcome to join us. Rink entry starts at 7:45 p.m. and skate time starts at 8 p.m. Skaters $10 cash or PayPal dirtyjerseyrollerderby@gmail.com\, refs and NSOs free 🙂
URL:https://dirtyjerseyrollerderby.com/event/open-scrimmage-djrd-all-stars-vs-the-world/
LOCATION:South Amboy Roller Magic\, 270 N Stevens Avenue\, South Amoby\, NJ\, 08879\, United States
ORGANIZER;CN="Dirty Jersey Roller Derby":MAILTO:dirtyjerseyrollerderby@gmail.com
END:VEVENT
END:VCALENDAR