BEGIN:VCALENDAR
VERSION:2.0
PRODID:-//Dirty Jersey Roller Derby - ECPv6.15.20//NONSGML v1.0//EN
CALSCALE:GREGORIAN
METHOD:PUBLISH
X-WR-CALNAME:Dirty Jersey Roller Derby
X-ORIGINAL-URL:https://dirtyjerseyrollerderby.com
X-WR-CALDESC:Events for Dirty Jersey Roller Derby
REFRESH-INTERVAL;VALUE=DURATION:PT1H
X-Robots-Tag:noindex
X-PUBLISHED-TTL:PT1H
BEGIN:VTIMEZONE
TZID:America/New_York
BEGIN:DAYLIGHT
TZOFFSETFROM:-0500
TZOFFSETTO:-0400
TZNAME:EDT
DTSTART:20250309T070000
END:DAYLIGHT
BEGIN:STANDARD
TZOFFSETFROM:-0400
TZOFFSETTO:-0500
TZNAME:EST
DTSTART:20251102T060000
END:STANDARD
BEGIN:DAYLIGHT
TZOFFSETFROM:-0500
TZOFFSETTO:-0400
TZNAME:EDT
DTSTART:20260308T070000
END:DAYLIGHT
BEGIN:STANDARD
TZOFFSETFROM:-0400
TZOFFSETTO:-0500
TZNAME:EST
DTSTART:20261101T060000
END:STANDARD
BEGIN:DAYLIGHT
TZOFFSETFROM:-0500
TZOFFSETTO:-0400
TZNAME:EDT
DTSTART:20270314T070000
END:DAYLIGHT
BEGIN:STANDARD
TZOFFSETFROM:-0400
TZOFFSETTO:-0500
TZNAME:EST
DTSTART:20271107T060000
END:STANDARD
END:VTIMEZONE
BEGIN:VEVENT
DTSTART;VALUE=DATE:20260517
DTEND;VALUE=DATE:20260518
DTSTAMP:20260423T062952
CREATED:20260312T002817Z
LAST-MODIFIED:20260312T010655Z
UID:3582-1778976000-1779062399@dirtyjerseyrollerderby.com
SUMMARY:DJRD All Stars vs. Reading Roller Derby (away)
DESCRIPTION:
URL:https://dirtyjerseyrollerderby.com/event/djrd-all-stars-vs-reading-roller-derby-away/
LOCATION:Skateaway\, 2275 Lancaster Pike\, Shillington\, PA\, 19607\, United States
END:VEVENT
END:VCALENDAR