BEGIN:VCALENDAR
VERSION:2.0
PRODID:-//Dirty Jersey Roller Derby - ECPv6.15.20//NONSGML v1.0//EN
CALSCALE:GREGORIAN
METHOD:PUBLISH
X-WR-CALNAME:Dirty Jersey Roller Derby
X-ORIGINAL-URL:https://dirtyjerseyrollerderby.com
X-WR-CALDESC:Events for Dirty Jersey Roller Derby
REFRESH-INTERVAL;VALUE=DURATION:PT1H
X-Robots-Tag:noindex
X-PUBLISHED-TTL:PT1H
BEGIN:VTIMEZONE
TZID:America/New_York
BEGIN:DAYLIGHT
TZOFFSETFROM:-0500
TZOFFSETTO:-0400
TZNAME:EDT
DTSTART:20240310T070000
END:DAYLIGHT
BEGIN:STANDARD
TZOFFSETFROM:-0400
TZOFFSETTO:-0500
TZNAME:EST
DTSTART:20241103T060000
END:STANDARD
BEGIN:DAYLIGHT
TZOFFSETFROM:-0500
TZOFFSETTO:-0400
TZNAME:EDT
DTSTART:20250309T070000
END:DAYLIGHT
BEGIN:STANDARD
TZOFFSETFROM:-0400
TZOFFSETTO:-0500
TZNAME:EST
DTSTART:20251102T060000
END:STANDARD
BEGIN:DAYLIGHT
TZOFFSETFROM:-0500
TZOFFSETTO:-0400
TZNAME:EDT
DTSTART:20260308T070000
END:DAYLIGHT
BEGIN:STANDARD
TZOFFSETFROM:-0400
TZOFFSETTO:-0500
TZNAME:EST
DTSTART:20261101T060000
END:STANDARD
END:VTIMEZONE
BEGIN:VEVENT
DTSTART;TZID=America/New_York:20251018T173000
DTEND;TZID=America/New_York:20251018T200000
DTSTAMP:20260423T141951
CREATED:20250320T021738Z
LAST-MODIFIED:20251001T021606Z
UID:3427-1760808600-1760817600@dirtyjerseyrollerderby.com
SUMMARY:Spooky Home Team Monster Mash-up (home)
DESCRIPTION:Watch the DJRD Purple People Eaters take on the Spooky Scary Skeletons in a fun Halloween-themed bout! Get tickets HERE
URL:https://dirtyjerseyrollerderby.com/event/double-header-all-stars-vu-vs-new-hampshire-rd-home/
LOCATION:All Season Sports Academy\, 2700 Hamilton Blvd.\, South Plainfield\, NJ\, 07080\, United States
ORGANIZER;CN="Dirty Jersey Roller Derby":MAILTO:dirtyjerseyrollerderby@gmail.com
END:VEVENT
END:VCALENDAR